BEGIN:VCALENDAR
VERSION:2.0
PRODID:-//NADI Felda Selancar 5 - ECPv6.15.13.1//NONSGML v1.0//EN
CALSCALE:GREGORIAN
METHOD:PUBLISH
X-WR-CALNAME:NADI Felda Selancar 5
X-ORIGINAL-URL:https://feldaselancar5.nadi.my
X-WR-CALDESC:Events for NADI Felda Selancar 5
REFRESH-INTERVAL;VALUE=DURATION:PT1H
X-Robots-Tag:noindex
X-PUBLISHED-TTL:PT1H
BEGIN:VTIMEZONE
TZID:Asia/Kuala_Lumpur
BEGIN:STANDARD
TZOFFSETFROM:+0800
TZOFFSETTO:+0800
TZNAME:+08
DTSTART:20240101T000000
END:STANDARD
END:VTIMEZONE
BEGIN:VEVENT
DTSTART;TZID=Asia/Kuala_Lumpur:20250810T090000
DTEND;TZID=Asia/Kuala_Lumpur:20250810T180000
DTSTAMP:20260421T180339
CREATED:20250807T023026Z
LAST-MODIFIED:20250807T023026Z
UID:5092-1754816400-1754848800@feldaselancar5.nadi.my
SUMMARY:NADI Tiny Techies : Unboxing Kits (Secondary-Innovation)
DESCRIPTION:
URL:https://feldaselancar5.nadi.my/event/nadi-tiny-techies-unboxing-kits-secondary-innovation/
END:VEVENT
END:VCALENDAR