BEGIN:VCALENDAR
VERSION:2.0
PRODID:-//NADI Felda Selancar 5 - ECPv6.15.13.1//NONSGML v1.0//EN
CALSCALE:GREGORIAN
METHOD:PUBLISH
X-WR-CALNAME:NADI Felda Selancar 5
X-ORIGINAL-URL:https://feldaselancar5.nadi.my
X-WR-CALDESC:Events for NADI Felda Selancar 5
REFRESH-INTERVAL;VALUE=DURATION:PT1H
X-Robots-Tag:noindex
X-PUBLISHED-TTL:PT1H
BEGIN:VTIMEZONE
TZID:Asia/Kuala_Lumpur
BEGIN:STANDARD
TZOFFSETFROM:+0800
TZOFFSETTO:+0800
TZNAME:+08
DTSTART:20240101T000000
END:STANDARD
END:VTIMEZONE
BEGIN:VEVENT
DTSTART;TZID=Asia/Kuala_Lumpur:20250913T080000
DTEND;TZID=Asia/Kuala_Lumpur:20250913T170000
DTSTAMP:20260421T213944
CREATED:20250911T072536Z
LAST-MODIFIED:20250911T072826Z
UID:5239-1757750400-1757782800@feldaselancar5.nadi.my
SUMMARY:Kempen Internet Selamat
DESCRIPTION:
URL:https://feldaselancar5.nadi.my/event/cohort-5-nadipreneur-empowher/
END:VEVENT
END:VCALENDAR