BEGIN:VCALENDAR
VERSION:2.0
PRODID:-//NADI Felda Selancar 5 - ECPv6.15.13.1//NONSGML v1.0//EN
CALSCALE:GREGORIAN
METHOD:PUBLISH
X-WR-CALNAME:NADI Felda Selancar 5
X-ORIGINAL-URL:https://feldaselancar5.nadi.my
X-WR-CALDESC:Events for NADI Felda Selancar 5
REFRESH-INTERVAL;VALUE=DURATION:PT1H
X-Robots-Tag:noindex
X-PUBLISHED-TTL:PT1H
BEGIN:VTIMEZONE
TZID:Asia/Kuala_Lumpur
BEGIN:STANDARD
TZOFFSETFROM:+0800
TZOFFSETTO:+0800
TZNAME:+08
DTSTART:20240101T000000
END:STANDARD
END:VTIMEZONE
BEGIN:VEVENT
DTSTART;TZID=Asia/Kuala_Lumpur:20251108T080000
DTEND;TZID=Asia/Kuala_Lumpur:20251108T170000
DTSTAMP:20260422T091540
CREATED:20251105T075005Z
LAST-MODIFIED:20251105T075005Z
UID:5514-1762588800-1762621200@feldaselancar5.nadi.my
SUMMARY:SUMO ROBOT & IOT INNOVATION WORKSHOP
DESCRIPTION:
URL:https://feldaselancar5.nadi.my/event/sumo-robot-iot-innovation-workshop/
END:VEVENT
BEGIN:VEVENT
DTSTART;TZID=Asia/Kuala_Lumpur:20251108T090000
DTEND;TZID=Asia/Kuala_Lumpur:20251108T170000
DTSTAMP:20260422T091540
CREATED:20251105T074921Z
LAST-MODIFIED:20251105T074921Z
UID:5512-1762592400-1762621200@feldaselancar5.nadi.my
SUMMARY:Kelas Kesedaran E-Sukan
DESCRIPTION:
URL:https://feldaselancar5.nadi.my/event/kelas-kesedaran-e-sukan/
END:VEVENT
END:VCALENDAR