BEGIN:VCALENDAR
VERSION:2.0
PRODID:-//NADI Felda Selancar 5 - ECPv6.15.13.1//NONSGML v1.0//EN
CALSCALE:GREGORIAN
METHOD:PUBLISH
X-WR-CALNAME:NADI Felda Selancar 5
X-ORIGINAL-URL:https://feldaselancar5.nadi.my
X-WR-CALDESC:Events for NADI Felda Selancar 5
REFRESH-INTERVAL;VALUE=DURATION:PT1H
X-Robots-Tag:noindex
X-PUBLISHED-TTL:PT1H
BEGIN:VTIMEZONE
TZID:UTC
BEGIN:STANDARD
TZOFFSETFROM:+0000
TZOFFSETTO:+0000
TZNAME:UTC
DTSTART:20190101T000000
END:STANDARD
END:VTIMEZONE
BEGIN:VEVENT
DTSTART;TZID=UTC:20201125T090000
DTEND;TZID=UTC:20201127T170000
DTSTAMP:20260425T193325
CREATED:20201124T011420Z
LAST-MODIFIED:20201124T011420Z
UID:3812-1606294800-1606496400@feldaselancar5.nadi.my
SUMMARY:Shopee
DESCRIPTION:
URL:https://feldaselancar5.nadi.my/event/shopee/
LOCATION:PI Felda Selancar 5\, PI Felda Selancar 5
CATEGORIES:DEFAULT
END:VEVENT
BEGIN:VEVENT
DTSTART;TZID=UTC:20201128T090000
DTEND;TZID=UTC:20201128T110000
DTSTAMP:20260425T193325
CREATED:20201124T011310Z
LAST-MODIFIED:20201124T011310Z
UID:3810-1606554000-1606561200@feldaselancar5.nadi.my
SUMMARY:Whatsapp Web
DESCRIPTION:
URL:https://feldaselancar5.nadi.my/event/whatsapp-web/
LOCATION:PI Felda Selancar 5\, PI Felda Selancar 5
CATEGORIES:DEFAULT
END:VEVENT
BEGIN:VEVENT
DTSTART;TZID=UTC:20201128T110000
DTEND;TZID=UTC:20201128T130000
DTSTAMP:20260425T193325
CREATED:20201124T011348Z
LAST-MODIFIED:20201124T011348Z
UID:3811-1606561200-1606568400@feldaselancar5.nadi.my
SUMMARY:Kelas ICT
DESCRIPTION:
URL:https://feldaselancar5.nadi.my/event/kelas-ict-2/
LOCATION:PI Felda Selancar 5\, PI Felda Selancar 5
CATEGORIES:DEFAULT
END:VEVENT
END:VCALENDAR