BEGIN:VCALENDAR
VERSION:2.0
PRODID:-//NADI Felda Selancar 5 - ECPv6.15.13.1//NONSGML v1.0//EN
CALSCALE:GREGORIAN
METHOD:PUBLISH
X-WR-CALNAME:NADI Felda Selancar 5
X-ORIGINAL-URL:https://feldaselancar5.nadi.my
X-WR-CALDESC:Events for NADI Felda Selancar 5
REFRESH-INTERVAL;VALUE=DURATION:PT1H
X-Robots-Tag:noindex
X-PUBLISHED-TTL:PT1H
BEGIN:VTIMEZONE
TZID:UTC
BEGIN:STANDARD
TZOFFSETFROM:+0000
TZOFFSETTO:+0000
TZNAME:UTC
DTSTART:20200101T000000
END:STANDARD
END:VTIMEZONE
BEGIN:VEVENT
DTSTART;TZID=UTC:20210307T030000
DTEND;TZID=UTC:20210307T170000
DTSTAMP:20260423T092510
CREATED:20210307T010004Z
LAST-MODIFIED:20210307T010004Z
UID:3833-1615086000-1615136400@feldaselancar5.nadi.my
SUMMARY:Permainan Atas Talian
DESCRIPTION:
URL:https://feldaselancar5.nadi.my/event/permainan-atas-talian/
LOCATION:PI Felda Selancar 5\, PI Felda Selancar 5
CATEGORIES:DEFAULT
END:VEVENT
BEGIN:VEVENT
DTSTART;TZID=UTC:20210313T090000
DTEND;TZID=UTC:20210313T170000
DTSTAMP:20260423T092510
CREATED:20210307T005910Z
LAST-MODIFIED:20210307T005910Z
UID:3832-1615626000-1615654800@feldaselancar5.nadi.my
SUMMARY:Shopee
DESCRIPTION:
URL:https://feldaselancar5.nadi.my/event/shopee-3/
LOCATION:PI Felda Selancar 5\, PI Felda Selancar 5
CATEGORIES:DEFAULT
END:VEVENT
BEGIN:VEVENT
DTSTART;TZID=UTC:20210315T090000
DTEND;TZID=UTC:20210315T170000
DTSTAMP:20260423T092510
CREATED:20210307T005829Z
LAST-MODIFIED:20210307T005829Z
UID:3831-1615798800-1615827600@feldaselancar5.nadi.my
SUMMARY:Promosi E-Waste
DESCRIPTION:
URL:https://feldaselancar5.nadi.my/event/promosi-e-waste-6/
LOCATION:PI Felda Selancar 5\, PI Felda Selancar 5
CATEGORIES:DEFAULT
END:VEVENT
BEGIN:VEVENT
DTSTART;TZID=UTC:20210317T090000
DTEND;TZID=UTC:20210317T170000
DTSTAMP:20260423T092510
CREATED:20210307T010206Z
LAST-MODIFIED:20210307T010206Z
UID:3837-1615971600-1616000400@feldaselancar5.nadi.my
SUMMARY:Kelas ICT
DESCRIPTION:
URL:https://feldaselancar5.nadi.my/event/kelas-ict-6/
LOCATION:PI Felda Selancar 5\, PI Felda Selancar 5
CATEGORIES:DEFAULT
END:VEVENT
BEGIN:VEVENT
DTSTART;TZID=UTC:20210325T090000
DTEND;TZID=UTC:20210325T170000
DTSTAMP:20260423T092510
CREATED:20210307T010046Z
LAST-MODIFIED:20210307T010046Z
UID:3834-1616662800-1616691600@feldaselancar5.nadi.my
SUMMARY:Dashboard Komuniti
DESCRIPTION:
URL:https://feldaselancar5.nadi.my/event/dashboard-komuniti-11/
LOCATION:PI Felda Selancar 5\, PI Felda Selancar 5
CATEGORIES:DEFAULT
END:VEVENT
BEGIN:VEVENT
DTSTART;TZID=UTC:20210327T080000
DTEND;TZID=UTC:20210327T170000
DTSTAMP:20260423T092510
CREATED:20210307T010112Z
LAST-MODIFIED:20210307T010112Z
UID:3835-1616832000-1616864400@feldaselancar5.nadi.my
SUMMARY:Dashboard Komuniti
DESCRIPTION:
URL:https://feldaselancar5.nadi.my/event/dashboard-komuniti-12/
LOCATION:PI Felda Selancar 5\, PI Felda Selancar 5
CATEGORIES:DEFAULT
END:VEVENT
BEGIN:VEVENT
DTSTART;TZID=UTC:20210331T030000
DTEND;TZID=UTC:20210331T170000
DTSTAMP:20260423T092510
CREATED:20210307T010141Z
LAST-MODIFIED:20210307T010141Z
UID:3836-1617159600-1617210000@feldaselancar5.nadi.my
SUMMARY:Permainan Atas Talian
DESCRIPTION:
URL:https://feldaselancar5.nadi.my/event/permainan-atas-talian-2/
LOCATION:PI Felda Selancar 5\, PI Felda Selancar 5
CATEGORIES:DEFAULT
END:VEVENT
END:VCALENDAR