BEGIN:VCALENDAR
VERSION:2.0
PRODID:-//NADI Felda Selancar 5 - ECPv6.15.13.1//NONSGML v1.0//EN
CALSCALE:GREGORIAN
METHOD:PUBLISH
X-WR-CALNAME:NADI Felda Selancar 5
X-ORIGINAL-URL:https://feldaselancar5.nadi.my
X-WR-CALDESC:Events for NADI Felda Selancar 5
REFRESH-INTERVAL;VALUE=DURATION:PT1H
X-Robots-Tag:noindex
X-PUBLISHED-TTL:PT1H
BEGIN:VTIMEZONE
TZID:UTC
BEGIN:STANDARD
TZOFFSETFROM:+0000
TZOFFSETTO:+0000
TZNAME:UTC
DTSTART:20200101T000000
END:STANDARD
END:VTIMEZONE
BEGIN:VEVENT
DTSTART;TZID=UTC:20210528T030000
DTEND;TZID=UTC:20210529T170000
DTSTAMP:20260419T213430
CREATED:20210504T195324Z
LAST-MODIFIED:20210504T195324Z
UID:3848-1622170800-1622307600@feldaselancar5.nadi.my
SUMMARY:Permainan Atas Talian
DESCRIPTION:
URL:https://feldaselancar5.nadi.my/event/permainan-atas-talian-3/
LOCATION:PI Felda Selancar 5\, PI Felda Selancar 5
CATEGORIES:DEFAULT
END:VEVENT
END:VCALENDAR