BEGIN:VCALENDAR
VERSION:2.0
PRODID:-//NADI Felda Selancar 5 - ECPv6.15.13.1//NONSGML v1.0//EN
CALSCALE:GREGORIAN
METHOD:PUBLISH
X-WR-CALNAME:NADI Felda Selancar 5
X-ORIGINAL-URL:https://feldaselancar5.nadi.my
X-WR-CALDESC:Events for NADI Felda Selancar 5
REFRESH-INTERVAL;VALUE=DURATION:PT1H
X-Robots-Tag:noindex
X-PUBLISHED-TTL:PT1H
BEGIN:VTIMEZONE
TZID:Asia/Kuala_Lumpur
BEGIN:STANDARD
TZOFFSETFROM:+0800
TZOFFSETTO:+0800
TZNAME:+08
DTSTART:20240101T000000
END:STANDARD
END:VTIMEZONE
BEGIN:VEVENT
DTSTART;TZID=Asia/Kuala_Lumpur:20250612T080000
DTEND;TZID=Asia/Kuala_Lumpur:20250612T170000
DTSTAMP:20260423T102632
CREATED:20250610T085253Z
LAST-MODIFIED:20250610T085253Z
UID:4802-1749715200-1749747600@feldaselancar5.nadi.my
SUMMARY:NADI Usahawan : Cohort 3: Webinar - Pemasaran & Operasi Perniagaan
DESCRIPTION:
URL:https://feldaselancar5.nadi.my/event/nadi-usahawan-cohort-3-webinar-pemasaran-operasi-perniagaan/
END:VEVENT
BEGIN:VEVENT
DTSTART;TZID=Asia/Kuala_Lumpur:20250613T080000
DTEND;TZID=Asia/Kuala_Lumpur:20250613T170000
DTSTAMP:20260423T102632
CREATED:20250610T085335Z
LAST-MODIFIED:20250610T085335Z
UID:4804-1749801600-1749834000@feldaselancar5.nadi.my
SUMMARY:NADI Esport : Kelas Kesedaran
DESCRIPTION:
URL:https://feldaselancar5.nadi.my/event/nadi-esport-kelas-kesedaran/
END:VEVENT
BEGIN:VEVENT
DTSTART;TZID=Asia/Kuala_Lumpur:20250617T080000
DTEND;TZID=Asia/Kuala_Lumpur:20250617T170000
DTSTAMP:20260423T102632
CREATED:20250610T085418Z
LAST-MODIFIED:20250610T085418Z
UID:4806-1750147200-1750179600@feldaselancar5.nadi.my
SUMMARY:NADI Ekelas Usahawan : Modul 3 & 4
DESCRIPTION:
URL:https://feldaselancar5.nadi.my/event/nadi-ekelas-usahawan-modul-3-4/
END:VEVENT
BEGIN:VEVENT
DTSTART;TZID=Asia/Kuala_Lumpur:20250621T080000
DTEND;TZID=Asia/Kuala_Lumpur:20250621T170000
DTSTAMP:20260423T102632
CREATED:20250610T085532Z
LAST-MODIFIED:20250610T085532Z
UID:4808-1750492800-1750525200@feldaselancar5.nadi.my
SUMMARY:NADI Tiny Techies : Mentor Sesi 5 (Sek. Ren & Sek. Men.)
DESCRIPTION:
URL:https://feldaselancar5.nadi.my/event/nadi-tiny-techies-mentor-sesi-5-sek-ren-sek-men/
END:VEVENT
BEGIN:VEVENT
DTSTART;TZID=Asia/Kuala_Lumpur:20250626T080000
DTEND;TZID=Asia/Kuala_Lumpur:20250626T170000
DTSTAMP:20260423T102632
CREATED:20250610T085617Z
LAST-MODIFIED:20250610T085617Z
UID:4810-1750924800-1750957200@feldaselancar5.nadi.my
SUMMARY:NADI Ekelas Usahawan : Modul 1 & 2
DESCRIPTION:
URL:https://feldaselancar5.nadi.my/event/nadi-ekelas-usahawan-modul-1-2/
END:VEVENT
BEGIN:VEVENT
DTSTART;TZID=Asia/Kuala_Lumpur:20250630T080000
DTEND;TZID=Asia/Kuala_Lumpur:20250630T170000
DTSTAMP:20260423T102632
CREATED:20250610T085723Z
LAST-MODIFIED:20250610T085723Z
UID:4812-1751270400-1751302800@feldaselancar5.nadi.my
SUMMARY:NADI Usahawan : Cohort 3 : Podcast NADIPreur - Peranan Visual Dalam Strategi Pemasaran
DESCRIPTION:
URL:https://feldaselancar5.nadi.my/event/nadi-usahawan-cohort-3-podcast-nadipreur-peranan-visual-dalam-strategi-pemasaran/
END:VEVENT
END:VCALENDAR