BEGIN:VCALENDAR
VERSION:2.0
PRODID:-//NADI Felda Selancar 5 - ECPv6.15.13.1//NONSGML v1.0//EN
CALSCALE:GREGORIAN
METHOD:PUBLISH
X-WR-CALNAME:NADI Felda Selancar 5
X-ORIGINAL-URL:https://feldaselancar5.nadi.my
X-WR-CALDESC:Events for NADI Felda Selancar 5
REFRESH-INTERVAL;VALUE=DURATION:PT1H
X-Robots-Tag:noindex
X-PUBLISHED-TTL:PT1H
BEGIN:VTIMEZONE
TZID:Asia/Kuala_Lumpur
BEGIN:STANDARD
TZOFFSETFROM:+0800
TZOFFSETTO:+0800
TZNAME:+08
DTSTART:20240101T000000
END:STANDARD
END:VTIMEZONE
BEGIN:VEVENT
DTSTART;TZID=Asia/Kuala_Lumpur:20250709T090000
DTEND;TZID=Asia/Kuala_Lumpur:20250709T180000
DTSTAMP:20260421T180412
CREATED:20250709T074234Z
LAST-MODIFIED:20250709T074610Z
UID:4952-1752051600-1752084000@feldaselancar5.nadi.my
SUMMARY:NADI Kidventure : Cohort 3 : Webinar 4 - Operasi Perniagaan
DESCRIPTION:
URL:https://feldaselancar5.nadi.my/event/nadi-kidventure-cohort-3-webinar-4-operasi-perniagaan/
END:VEVENT
BEGIN:VEVENT
DTSTART;TZID=Asia/Kuala_Lumpur:20250710T090000
DTEND;TZID=Asia/Kuala_Lumpur:20250710T180000
DTSTAMP:20260421T180412
CREATED:20250709T073802Z
LAST-MODIFIED:20250709T073958Z
UID:4941-1752138000-1752170400@feldaselancar5.nadi.my
SUMMARY:NADI Keusahawanan : Cohort 4 : Webinar Pengurusan Kewangan & Perancangan Perniagaan
DESCRIPTION:
URL:https://feldaselancar5.nadi.my/event/nadi-keusahawanan-cohort-4-webinar-pengurusan-kewangan-perancangan-perniagaan/
END:VEVENT
BEGIN:VEVENT
DTSTART;TZID=Asia/Kuala_Lumpur:20250712T090000
DTEND;TZID=Asia/Kuala_Lumpur:20250712T180000
DTSTAMP:20260421T180412
CREATED:20250709T073831Z
LAST-MODIFIED:20250709T074042Z
UID:4943-1752310800-1752343200@feldaselancar5.nadi.my
SUMMARY:NADI E-Sukan : Kelas Kesedaran
DESCRIPTION:
URL:https://feldaselancar5.nadi.my/event/nadi-e-sukan-kelas-kesedaran/
END:VEVENT
BEGIN:VEVENT
DTSTART;TZID=Asia/Kuala_Lumpur:20250719T090000
DTEND;TZID=Asia/Kuala_Lumpur:20250719T180000
DTSTAMP:20260421T180412
CREATED:20250709T073921Z
LAST-MODIFIED:20250709T073921Z
UID:4945-1752915600-1752948000@feldaselancar5.nadi.my
SUMMARY:NADI Kempen Internet Selamat : Safe & Malware
DESCRIPTION:
URL:https://feldaselancar5.nadi.my/event/nadi-kempen-internet-selamat-safe-malware/
END:VEVENT
BEGIN:VEVENT
DTSTART;TZID=Asia/Kuala_Lumpur:20250724T090000
DTEND;TZID=Asia/Kuala_Lumpur:20250724T180000
DTSTAMP:20260421T180412
CREATED:20250709T074131Z
LAST-MODIFIED:20250709T074131Z
UID:4950-1753347600-1753380000@feldaselancar5.nadi.my
SUMMARY:NADI Cybersecurity
DESCRIPTION:
URL:https://feldaselancar5.nadi.my/event/nadi-cybersecurity/
END:VEVENT
END:VCALENDAR