BEGIN:VCALENDAR
VERSION:2.0
PRODID:-//NADI Felda Selancar 5 - ECPv6.15.13.1//NONSGML v1.0//EN
CALSCALE:GREGORIAN
METHOD:PUBLISH
X-WR-CALNAME:NADI Felda Selancar 5
X-ORIGINAL-URL:https://feldaselancar5.nadi.my
X-WR-CALDESC:Events for NADI Felda Selancar 5
REFRESH-INTERVAL;VALUE=DURATION:PT1H
X-Robots-Tag:noindex
X-PUBLISHED-TTL:PT1H
BEGIN:VTIMEZONE
TZID:Asia/Kuala_Lumpur
BEGIN:STANDARD
TZOFFSETFROM:+0800
TZOFFSETTO:+0800
TZNAME:+08
DTSTART:20240101T000000
END:STANDARD
END:VTIMEZONE
BEGIN:VEVENT
DTSTART;TZID=Asia/Kuala_Lumpur:20250913T080000
DTEND;TZID=Asia/Kuala_Lumpur:20250913T170000
DTSTAMP:20260423T222334
CREATED:20250911T072536Z
LAST-MODIFIED:20250911T072826Z
UID:5239-1757750400-1757782800@feldaselancar5.nadi.my
SUMMARY:Kempen Internet Selamat
DESCRIPTION:
URL:https://feldaselancar5.nadi.my/event/cohort-5-nadipreneur-empowher/
END:VEVENT
BEGIN:VEVENT
DTSTART;TZID=Asia/Kuala_Lumpur:20250917T080000
DTEND;TZID=Asia/Kuala_Lumpur:20250917T170000
DTSTAMP:20260423T222334
CREATED:20250911T073115Z
LAST-MODIFIED:20250911T073115Z
UID:5244-1758096000-1758128400@feldaselancar5.nadi.my
SUMMARY:Kempen Internet Selamat : Love Scam
DESCRIPTION:
URL:https://feldaselancar5.nadi.my/event/kempen-internet-selamat-love-scam/
END:VEVENT
BEGIN:VEVENT
DTSTART;TZID=Asia/Kuala_Lumpur:20250918T080000
DTEND;TZID=Asia/Kuala_Lumpur:20250918T170000
DTSTAMP:20260423T222334
CREATED:20250911T073045Z
LAST-MODIFIED:20250911T073045Z
UID:5242-1758182400-1758214800@feldaselancar5.nadi.my
SUMMARY:NADI Cybersecurity
DESCRIPTION:
URL:https://feldaselancar5.nadi.my/event/nadi-cybersecurity-3/
END:VEVENT
BEGIN:VEVENT
DTSTART;TZID=Asia/Kuala_Lumpur:20250920T080000
DTEND;TZID=Asia/Kuala_Lumpur:20250920T170000
DTSTAMP:20260423T222334
CREATED:20250911T073215Z
LAST-MODIFIED:20250911T073215Z
UID:5246-1758355200-1758387600@feldaselancar5.nadi.my
SUMMARY:NADI Kidventure : Operasi Perniagaan
DESCRIPTION:
URL:https://feldaselancar5.nadi.my/event/nadi-kidventure-operasi-perniagaan/
END:VEVENT
BEGIN:VEVENT
DTSTART;TZID=Asia/Kuala_Lumpur:20250923T080000
DTEND;TZID=Asia/Kuala_Lumpur:20250923T170000
DTSTAMP:20260423T222334
CREATED:20250911T073315Z
LAST-MODIFIED:20250911T073315Z
UID:5248-1758614400-1758646800@feldaselancar5.nadi.my
SUMMARY:Podcast NADIPreneur
DESCRIPTION:
URL:https://feldaselancar5.nadi.my/event/podcast-nadipreneur-2/
END:VEVENT
END:VCALENDAR