BEGIN:VCALENDAR
VERSION:2.0
PRODID:-//NADI Felda Selancar 5 - ECPv6.15.13.1//NONSGML v1.0//EN
CALSCALE:GREGORIAN
METHOD:PUBLISH
X-WR-CALNAME:NADI Felda Selancar 5
X-ORIGINAL-URL:https://feldaselancar5.nadi.my
X-WR-CALDESC:Events for NADI Felda Selancar 5
REFRESH-INTERVAL;VALUE=DURATION:PT1H
X-Robots-Tag:noindex
X-PUBLISHED-TTL:PT1H
BEGIN:VTIMEZONE
TZID:Asia/Kuala_Lumpur
BEGIN:STANDARD
TZOFFSETFROM:+0800
TZOFFSETTO:+0800
TZNAME:+08
DTSTART:20240101T000000
END:STANDARD
END:VTIMEZONE
BEGIN:VEVENT
DTSTART;TZID=Asia/Kuala_Lumpur:20251215T090000
DTEND;TZID=Asia/Kuala_Lumpur:20251215T180000
DTSTAMP:20260424T214250
CREATED:20251211T040054Z
LAST-MODIFIED:20251211T040054Z
UID:5679-1765789200-1765821600@feldaselancar5.nadi.my
SUMMARY:Cohort 6 : Podcast : Ini Jenama Saya\, Tolong Jangan Ciplak!
DESCRIPTION:
URL:https://feldaselancar5.nadi.my/event/cohort-6-podcast-ini-jenama-saya-tolong-jangan-ciplak/
END:VEVENT
BEGIN:VEVENT
DTSTART;TZID=Asia/Kuala_Lumpur:20251220T090000
DTEND;TZID=Asia/Kuala_Lumpur:20251220T180000
DTSTAMP:20260424T214250
CREATED:20251211T040140Z
LAST-MODIFIED:20251211T040140Z
UID:5681-1766221200-1766253600@feldaselancar5.nadi.my
SUMMARY:KIS : Taklimat Perisian Merbahaya
DESCRIPTION:
URL:https://feldaselancar5.nadi.my/event/kis-taklimat-perisian-merbahaya/
END:VEVENT
BEGIN:VEVENT
DTSTART;TZID=Asia/Kuala_Lumpur:20251227T090000
DTEND;TZID=Asia/Kuala_Lumpur:20251227T180000
DTSTAMP:20260424T214250
CREATED:20251211T041303Z
LAST-MODIFIED:20251211T041303Z
UID:5683-1766826000-1766858400@feldaselancar5.nadi.my
SUMMARY:E-Sport : Webinar 2D Animation For Beginners eFootball Tournament During The School Break
DESCRIPTION:
URL:https://feldaselancar5.nadi.my/event/e-sport-webinar-2d-animation-for-beginners-efootball-tournament-during-the-school-break/
END:VEVENT
END:VCALENDAR