BEGIN:VCALENDAR
VERSION:2.0
PRODID:-//NADI Felda Selancar 5 - ECPv6.15.13.1//NONSGML v1.0//EN
CALSCALE:GREGORIAN
METHOD:PUBLISH
X-WR-CALNAME:NADI Felda Selancar 5
X-ORIGINAL-URL:https://feldaselancar5.nadi.my
X-WR-CALDESC:Events for NADI Felda Selancar 5
REFRESH-INTERVAL;VALUE=DURATION:PT1H
X-Robots-Tag:noindex
X-PUBLISHED-TTL:PT1H
BEGIN:VTIMEZONE
TZID:Asia/Kuala_Lumpur
BEGIN:STANDARD
TZOFFSETFROM:+0800
TZOFFSETTO:+0800
TZNAME:+08
DTSTART:20250101T000000
END:STANDARD
END:VTIMEZONE
BEGIN:VEVENT
DTSTART;TZID=Asia/Kuala_Lumpur:20260108T090000
DTEND;TZID=Asia/Kuala_Lumpur:20260108T180000
DTSTAMP:20260424T211746
CREATED:20260107T065621Z
LAST-MODIFIED:20260107T065621Z
UID:5794-1767862800-1767895200@feldaselancar5.nadi.my
SUMMARY:Wellbeing (Podcast : Burnout Surirumah)
DESCRIPTION:
URL:https://feldaselancar5.nadi.my/event/wellbeing-podcast-burnout-surirumah/
END:VEVENT
BEGIN:VEVENT
DTSTART;TZID=Asia/Kuala_Lumpur:20260109T090000
DTEND;TZID=Asia/Kuala_Lumpur:20260109T180000
DTSTAMP:20260424T211746
CREATED:20260107T065657Z
LAST-MODIFIED:20260107T065657Z
UID:5796-1767949200-1767981600@feldaselancar5.nadi.my
SUMMARY:Mahir (Forum Mahir Bersama Komuniti)
DESCRIPTION:
URL:https://feldaselancar5.nadi.my/event/mahir-forum-mahir-bersama-komuniti/
END:VEVENT
BEGIN:VEVENT
DTSTART;TZID=Asia/Kuala_Lumpur:20260110T090000
DTEND;TZID=Asia/Kuala_Lumpur:20260110T180000
DTSTAMP:20260424T211746
CREATED:20260107T065749Z
LAST-MODIFIED:20260107T065749Z
UID:5798-1768035600-1768068000@feldaselancar5.nadi.my
SUMMARY:E-Sport (Awareness Class)
DESCRIPTION:
URL:https://feldaselancar5.nadi.my/event/e-sport-awareness-class-2/
END:VEVENT
BEGIN:VEVENT
DTSTART;TZID=Asia/Kuala_Lumpur:20260115T090000
DTEND;TZID=Asia/Kuala_Lumpur:20260115T180000
DTSTAMP:20260424T211746
CREATED:20260114T035350Z
LAST-MODIFIED:20260114T035350Z
UID:5808-1768467600-1768500000@feldaselancar5.nadi.my
SUMMARY:Keusahawanan : Perancangan Perniagaan
DESCRIPTION:
URL:https://feldaselancar5.nadi.my/event/keusahawanan-perancangan-perniagaan/
END:VEVENT
BEGIN:VEVENT
DTSTART;TZID=Asia/Kuala_Lumpur:20260122T090000
DTEND;TZID=Asia/Kuala_Lumpur:20260122T180000
DTSTAMP:20260424T211746
CREATED:20260114T035414Z
LAST-MODIFIED:20260114T035458Z
UID:5810-1769072400-1769104800@feldaselancar5.nadi.my
SUMMARY:Keusahawanan : Perancangan Kewangan
DESCRIPTION:
URL:https://feldaselancar5.nadi.my/event/perancangan-kewangan/
END:VEVENT
BEGIN:VEVENT
DTSTART;TZID=Asia/Kuala_Lumpur:20260129T090000
DTEND;TZID=Asia/Kuala_Lumpur:20260129T180000
DTSTAMP:20260424T211746
CREATED:20260114T035611Z
LAST-MODIFIED:20260114T035611Z
UID:5813-1769677200-1769709600@feldaselancar5.nadi.my
SUMMARY:Keusahawanan : Video Podcast (Perancangan Perniagaan & Perancangan Kewangan)
DESCRIPTION:
URL:https://feldaselancar5.nadi.my/event/keusahawanan-video-podcast-perancangan-perniagaan-perancangan-kewangan/
END:VEVENT
END:VCALENDAR